BEGIN:VCALENDAR
VERSION:2.0
PRODID:-//Skate Company Skating Club - ECPv6.15.20//NONSGML v1.0//EN
CALSCALE:GREGORIAN
METHOD:PUBLISH
X-ORIGINAL-URL:https://www.skatecompanyskatingclub.com
X-WR-CALDESC:Events for Skate Company Skating Club
REFRESH-INTERVAL;VALUE=DURATION:PT1H
X-Robots-Tag:noindex
X-PUBLISHED-TTL:PT1H
BEGIN:VTIMEZONE
TZID:America/Detroit
BEGIN:DAYLIGHT
TZOFFSETFROM:-0500
TZOFFSETTO:-0400
TZNAME:EDT
DTSTART:20250309T070000
END:DAYLIGHT
BEGIN:STANDARD
TZOFFSETFROM:-0400
TZOFFSETTO:-0500
TZNAME:EST
DTSTART:20251102T060000
END:STANDARD
BEGIN:DAYLIGHT
TZOFFSETFROM:-0500
TZOFFSETTO:-0400
TZNAME:EDT
DTSTART:20260308T070000
END:DAYLIGHT
BEGIN:STANDARD
TZOFFSETFROM:-0400
TZOFFSETTO:-0500
TZNAME:EST
DTSTART:20261101T060000
END:STANDARD
BEGIN:DAYLIGHT
TZOFFSETFROM:-0500
TZOFFSETTO:-0400
TZNAME:EDT
DTSTART:20270314T070000
END:DAYLIGHT
BEGIN:STANDARD
TZOFFSETFROM:-0400
TZOFFSETTO:-0500
TZNAME:EST
DTSTART:20271107T060000
END:STANDARD
END:VTIMEZONE
BEGIN:VEVENT
DTSTART;TZID=America/Detroit:20260307T090000
DTEND;TZID=America/Detroit:20260307T110000
DTSTAMP:20260425T121943
CREATED:20260301T181647Z
LAST-MODIFIED:20260302T163645Z
UID:42009-1772874000-1772881200@www.skatecompanyskatingclub.com
SUMMARY:Show Practice- Blacklight
DESCRIPTION:Blacklight- 9:00-10:50am
URL:https://www.skatecompanyskatingclub.com/events/show-practice-blacklight/
CATEGORIES:Show Practice
END:VEVENT
END:VCALENDAR