BEGIN:VCALENDAR
VERSION:2.0
PRODID:-//Skate Company Skating Club - ECPv6.15.20//NONSGML v1.0//EN
CALSCALE:GREGORIAN
METHOD:PUBLISH
X-ORIGINAL-URL:https://www.skatecompanyskatingclub.com
X-WR-CALDESC:Events for Skate Company Skating Club
REFRESH-INTERVAL;VALUE=DURATION:PT1H
X-Robots-Tag:noindex
X-PUBLISHED-TTL:PT1H
BEGIN:VTIMEZONE
TZID:America/Detroit
BEGIN:DAYLIGHT
TZOFFSETFROM:-0500
TZOFFSETTO:-0400
TZNAME:EDT
DTSTART:20250309T070000
END:DAYLIGHT
BEGIN:STANDARD
TZOFFSETFROM:-0400
TZOFFSETTO:-0500
TZNAME:EST
DTSTART:20251102T060000
END:STANDARD
BEGIN:DAYLIGHT
TZOFFSETFROM:-0500
TZOFFSETTO:-0400
TZNAME:EDT
DTSTART:20260308T070000
END:DAYLIGHT
BEGIN:STANDARD
TZOFFSETFROM:-0400
TZOFFSETTO:-0500
TZNAME:EST
DTSTART:20261101T060000
END:STANDARD
BEGIN:DAYLIGHT
TZOFFSETFROM:-0500
TZOFFSETTO:-0400
TZNAME:EDT
DTSTART:20270314T070000
END:DAYLIGHT
BEGIN:STANDARD
TZOFFSETFROM:-0400
TZOFFSETTO:-0500
TZNAME:EST
DTSTART:20271107T060000
END:STANDARD
END:VTIMEZONE
BEGIN:VEVENT
DTSTART;TZID=America/Detroit:20260412T130000
DTEND;TZID=America/Detroit:20260412T193000
DTSTAMP:20260423T074114
CREATED:20260302T155202Z
LAST-MODIFIED:20260302T155202Z
UID:42023-1775998800-1776022200@www.skatecompanyskatingclub.com
SUMMARY:Show Practice
DESCRIPTION:LeJazz- 1:00-1:45pm \nScales- 1:00-1:45pm \nParents- 1:45-2:45pm \nAlumni- 2:45-3:45pm \nDads- 3:45-4:30pm \nBlacklight- 4:45-5:35pm \nMini Me ALL- 5:35-6:20pm \nGrande Finale (excluding Scales & Adaptive)- 6:20-7:20pm \n 
URL:https://www.skatecompanyskatingclub.com/events/show-practice-4/
CATEGORIES:Show Practice
END:VEVENT
END:VCALENDAR