BEGIN:VCALENDAR
VERSION:2.0
PRODID:-//Skate Company Skating Club - ECPv6.15.20//NONSGML v1.0//EN
CALSCALE:GREGORIAN
METHOD:PUBLISH
X-WR-CALNAME:Skate Company Skating Club
X-ORIGINAL-URL:https://www.skatecompanyskatingclub.com
X-WR-CALDESC:Events for Skate Company Skating Club
REFRESH-INTERVAL;VALUE=DURATION:PT1H
X-Robots-Tag:noindex
X-PUBLISHED-TTL:PT1H
BEGIN:VTIMEZONE
TZID:America/Detroit
BEGIN:DAYLIGHT
TZOFFSETFROM:-0500
TZOFFSETTO:-0400
TZNAME:EDT
DTSTART:20240310T070000
END:DAYLIGHT
BEGIN:STANDARD
TZOFFSETFROM:-0400
TZOFFSETTO:-0500
TZNAME:EST
DTSTART:20241103T060000
END:STANDARD
BEGIN:DAYLIGHT
TZOFFSETFROM:-0500
TZOFFSETTO:-0400
TZNAME:EDT
DTSTART:20250309T070000
END:DAYLIGHT
BEGIN:STANDARD
TZOFFSETFROM:-0400
TZOFFSETTO:-0500
TZNAME:EST
DTSTART:20251102T060000
END:STANDARD
BEGIN:DAYLIGHT
TZOFFSETFROM:-0500
TZOFFSETTO:-0400
TZNAME:EDT
DTSTART:20260308T070000
END:DAYLIGHT
BEGIN:STANDARD
TZOFFSETFROM:-0400
TZOFFSETTO:-0500
TZNAME:EST
DTSTART:20261101T060000
END:STANDARD
BEGIN:DAYLIGHT
TZOFFSETFROM:-0500
TZOFFSETTO:-0400
TZNAME:EDT
DTSTART:20270314T070000
END:DAYLIGHT
BEGIN:STANDARD
TZOFFSETFROM:-0400
TZOFFSETTO:-0500
TZNAME:EST
DTSTART:20271107T060000
END:STANDARD
END:VTIMEZONE
BEGIN:VEVENT
DTSTART;VALUE=DATE:20251223
DTEND;VALUE=DATE:20260105
DTSTAMP:20260425T070630
CREATED:20250706T175253Z
LAST-MODIFIED:20251026T022121Z
UID:40943-1766448000-1767571199@www.skatecompanyskatingclub.com
SUMMARY:No Learn To Skate Classes
DESCRIPTION:Merry Christmas and Happy New Year!
URL:https://www.skatecompanyskatingclub.com/events/no-learn-to-skate-classes-7/
CATEGORIES:No Classes
END:VEVENT
BEGIN:VEVENT
DTSTART;TZID=America/Detroit:20260110T143000
DTEND;TZID=America/Detroit:20260110T160000
DTSTAMP:20260425T070630
CREATED:20260109T213008Z
LAST-MODIFIED:20260109T213008Z
UID:41761-1768055400-1768060800@www.skatecompanyskatingclub.com
SUMMARY:Snowflake Group Practice
DESCRIPTION:
URL:https://www.skatecompanyskatingclub.com/events/snowflake-group-practice/
END:VEVENT
BEGIN:VEVENT
DTSTART;TZID=America/Detroit:20260111T150000
DTEND;TZID=America/Detroit:20260111T160000
DTSTAMP:20260425T070630
CREATED:20260109T213050Z
LAST-MODIFIED:20260109T213050Z
UID:41763-1768143600-1768147200@www.skatecompanyskatingclub.com
SUMMARY:Snowflake Group Practice
DESCRIPTION:
URL:https://www.skatecompanyskatingclub.com/events/snowflake-group-practice-2/
END:VEVENT
BEGIN:VEVENT
DTSTART;VALUE=DATE:20260113
DTEND;VALUE=DATE:20260114
DTSTAMP:20260425T070630
CREATED:20250706T175117Z
LAST-MODIFIED:20250706T175117Z
UID:40939-1768262400-1768348799@www.skatecompanyskatingclub.com
SUMMARY:No Learn To Skate Classes
DESCRIPTION:
URL:https://www.skatecompanyskatingclub.com/events/no-learn-to-skate-classes-5/
CATEGORIES:No Classes
END:VEVENT
BEGIN:VEVENT
DTSTART;TZID=America/Detroit:20260113T180000
DTEND;TZID=America/Detroit:20260113T200000
DTSTAMP:20260425T070630
CREATED:20250706T180349Z
LAST-MODIFIED:20260109T212752Z
UID:40965-1768327200-1768334400@www.skatecompanyskatingclub.com
SUMMARY:Workshop Clinic
DESCRIPTION:
URL:https://www.skatecompanyskatingclub.com/events/clinic-details-tba-3/
CATEGORIES:Special Events
END:VEVENT
BEGIN:VEVENT
DTSTART;VALUE=DATE:20260116
DTEND;VALUE=DATE:20260117
DTSTAMP:20260425T070630
CREATED:20250706T175154Z
LAST-MODIFIED:20250706T175154Z
UID:40941-1768521600-1768607999@www.skatecompanyskatingclub.com
SUMMARY:No Learn To Skate Classes
DESCRIPTION:
URL:https://www.skatecompanyskatingclub.com/events/no-learn-to-skate-classes-6/
CATEGORIES:No Classes
END:VEVENT
BEGIN:VEVENT
DTSTART;TZID=America/Detroit:20260124T143000
DTEND;TZID=America/Detroit:20260124T153000
DTSTAMP:20260425T070630
CREATED:20260109T213138Z
LAST-MODIFIED:20260109T213138Z
UID:41765-1769265000-1769268600@www.skatecompanyskatingclub.com
SUMMARY:Snowflake Group Practice
DESCRIPTION:
URL:https://www.skatecompanyskatingclub.com/events/snowflake-group-practice-3/
END:VEVENT
BEGIN:VEVENT
DTSTART;TZID=America/Detroit:20260124T170000
DTEND;TZID=America/Detroit:20260124T200000
DTSTAMP:20260425T070630
CREATED:20250916T021701Z
LAST-MODIFIED:20251210T182940Z
UID:41167-1769274000-1769284800@www.skatecompanyskatingclub.com
SUMMARY:Snowflake Spectacular
DESCRIPTION:
URL:https://www.skatecompanyskatingclub.com/events/snowflake-spectacular/
LOCATION:Lincoln Park Community Center\, 3525 Dix Hwy\, Lincoln Park\, Michigan\, MI\, 48146\, United States
CATEGORIES:Special Events
END:VEVENT
BEGIN:VEVENT
DTSTART;TZID=America/Detroit:20260131T190000
DTEND;TZID=America/Detroit:20260131T220000
DTSTAMP:20260425T070630
CREATED:20260109T213253Z
LAST-MODIFIED:20260109T213253Z
UID:41768-1769886000-1769896800@www.skatecompanyskatingclub.com
SUMMARY:Patti McNeil Memorial Game/Exhibition
DESCRIPTION:
URL:https://www.skatecompanyskatingclub.com/events/patti-mcneil-memorial-game-exhibition/
END:VEVENT
END:VCALENDAR